BEGIN:VCALENDAR
VERSION:2.0
PRODID:-//Crime Stoppers of Houston - ECPv6.15.20//NONSGML v1.0//EN
CALSCALE:GREGORIAN
METHOD:PUBLISH
X-WR-CALNAME:Crime Stoppers of Houston
X-ORIGINAL-URL:https://crime-stoppers.org
X-WR-CALDESC:Events for Crime Stoppers of Houston
REFRESH-INTERVAL;VALUE=DURATION:PT1H
X-Robots-Tag:noindex
X-PUBLISHED-TTL:PT1H
BEGIN:VTIMEZONE
TZID:America/Chicago
BEGIN:DAYLIGHT
TZOFFSETFROM:-0600
TZOFFSETTO:-0500
TZNAME:CDT
DTSTART:20230312T080000
END:DAYLIGHT
BEGIN:STANDARD
TZOFFSETFROM:-0500
TZOFFSETTO:-0600
TZNAME:CST
DTSTART:20231105T070000
END:STANDARD
BEGIN:DAYLIGHT
TZOFFSETFROM:-0600
TZOFFSETTO:-0500
TZNAME:CDT
DTSTART:20240310T080000
END:DAYLIGHT
BEGIN:STANDARD
TZOFFSETFROM:-0500
TZOFFSETTO:-0600
TZNAME:CST
DTSTART:20241103T070000
END:STANDARD
BEGIN:DAYLIGHT
TZOFFSETFROM:-0600
TZOFFSETTO:-0500
TZNAME:CDT
DTSTART:20250309T080000
END:DAYLIGHT
BEGIN:STANDARD
TZOFFSETFROM:-0500
TZOFFSETTO:-0600
TZNAME:CST
DTSTART:20251102T070000
END:STANDARD
END:VTIMEZONE
BEGIN:VEVENT
DTSTART;TZID=America/Chicago:20241001T110000
DTEND;TZID=America/Chicago:20241001T120000
DTSTAMP:20260425T075715
CREATED:20240910T155506Z
LAST-MODIFIED:20240910T155506Z
UID:45905-1727780400-1727784000@crime-stoppers.org
SUMMARY:SCI Virtual Programming: Mental Health - October 1
DESCRIPTION:This presentation introduces mental health and explains how it affects all aspects of a person’s life\, including emotional well-being\, decision-making\, and social relationships. We discuss the prevalence of common mental health disorders\, how to identify symptoms and potential treatment options. We also cover strategies to maintain positive mental health and ways to support for someone experiencing a mental health crisis. \nREGISTER HERE!
URL:https://crime-stoppers.org/event/sci-virtual-programming-mental-health-october-1
LOCATION:Virtual
END:VEVENT
BEGIN:VEVENT
DTSTART;TZID=America/Chicago:20241008T110000
DTEND;TZID=America/Chicago:20241008T120000
DTSTAMP:20260425T075715
CREATED:20240910T155715Z
LAST-MODIFIED:20241011T180132Z
UID:45917-1728385200-1728388800@crime-stoppers.org
SUMMARY:SCI Virtual Programming: Domestic Violence Prevention - October 8
DESCRIPTION:This presentation discusses the signs\, dangers\, and potential outcomes of domestic violence while raising awareness and emphasizing the importance of reporting. \nWATCH FULL RECORDING HERE! \n 
URL:https://crime-stoppers.org/event/sci-virtual-programming-domestic-violence-prevention-october-8
LOCATION:Virtual
END:VEVENT
BEGIN:VEVENT
DTSTART;TZID=America/Chicago:20241015T110000
DTEND;TZID=America/Chicago:20241015T120000
DTSTAMP:20260425T075715
CREATED:20240910T160047Z
LAST-MODIFIED:20241015T181200Z
UID:45918-1728990000-1728993600@crime-stoppers.org
SUMMARY:SCI Virtual Programming: Prevención de la Violencia Doméstica - October 15
DESCRIPTION:Esta presentación trata sobre los signos\, peligros y posibles consecuencias de la violencia doméstica\, al mismo tiempo que crea conciencia sobre el tema y enfatiza la importancia de denunciarlo. \nWATCH FULL RECORDING HERE!
URL:https://crime-stoppers.org/event/sci-virtual-programming-prevencion-de-la-violencia-domestica-october-15
LOCATION:Virtual
END:VEVENT
BEGIN:VEVENT
DTSTART;TZID=America/Chicago:20241022T110000
DTEND;TZID=America/Chicago:20241022T140000
DTSTAMP:20260425T075715
CREATED:20240910T160345Z
LAST-MODIFIED:20241022T175930Z
UID:45919-1729594800-1729605600@crime-stoppers.org
SUMMARY:SCI Virtual Programming: Online Solicitation Prevention - October 22
DESCRIPTION:This presentation explores how online predators target\, manipulate\, and exploit children and teens. We cover the most popular apps used for child exploitation\, common grooming tactics\, signs parents should watch for\, and resources to help keep families safe online. \nWATCH FULL RECORDING HERE!
URL:https://crime-stoppers.org/event/sci-virtual-programming-online-solicitation-prevention-october-22
LOCATION:Virtual
END:VEVENT
END:VCALENDAR