BEGIN:VCALENDAR
VERSION:2.0
PRODID:-//Crime Stoppers of Houston - ECPv6.15.20//NONSGML v1.0//EN
CALSCALE:GREGORIAN
METHOD:PUBLISH
X-ORIGINAL-URL:https://crime-stoppers.org
X-WR-CALDESC:Events for Crime Stoppers of Houston
REFRESH-INTERVAL;VALUE=DURATION:PT1H
X-Robots-Tag:noindex
X-PUBLISHED-TTL:PT1H
BEGIN:VTIMEZONE
TZID:UTC
BEGIN:STANDARD
TZOFFSETFROM:+0000
TZOFFSETTO:+0000
TZNAME:UTC
DTSTART:20210101T000000
END:STANDARD
END:VTIMEZONE
BEGIN:VEVENT
DTSTART;TZID=UTC:20220613T100000
DTEND;TZID=UTC:20220613T110000
DTSTAMP:20260424T061133
CREATED:20220330T164205Z
LAST-MODIFIED:20220510T191500Z
UID:39533-1655114400-1655118000@crime-stoppers.org
SUMMARY:S.A.V.E. Webinar: Summer Situational Awareness
DESCRIPTION:Education Specialist\, Teresa Salazar\, will provide valuable information on the importance of situational awareness during the summer and every day and how to implement these strategies during popular summer activities. \nThis virtual statewide webinar is made possible by Texas Education Agency (TEA) and Spindletop Community Impact Partners\, Inc. \nREGISTER HERE
URL:https://crime-stoppers.org/event/s-a-v-e-webinar-summer-situational-awareness
END:VEVENT
BEGIN:VEVENT
DTSTART;TZID=UTC:20220614T110000
DTEND;TZID=UTC:20220614T120000
DTSTAMP:20260424T061133
CREATED:20220330T170234Z
LAST-MODIFIED:20250417T205431Z
UID:39543-1655204400-1655208000@crime-stoppers.org
SUMMARY:SCP Webinar: Home Security and Situational Awareness
DESCRIPTION:Everyone should feel safe in their own home. Our Programs Coordinator will discuss tips to ensure a secure home and how to create an effective exit strategy should you be faced with home invasion. Additionally\, this presentation covers basic situational awareness tips to always keep you and your family safe and alert. \nThis presentation is made possible by Spindletop Community Impact Partners\, Inc. and our Safe Community Institute sponsors: \n– Phillips 66\n– The Hamill Foundation\n– Harris County Commissioners Court – Commissioner R. Jack Cagle\n– Harris County Commissioners Court – Commissioner Tom Ramsey\n– Lawrence and Linda Levy\n– Cheniere Energy\n– Houston PetSet\n– Harris County Sheriff’s Office Foundation \nREGISTER HERE
URL:https://crime-stoppers.org/event/scp-webinar-home-security-and-situational-awareness
END:VEVENT
BEGIN:VEVENT
DTSTART;TZID=UTC:20220620T100000
DTEND;TZID=UTC:20220620T110000
DTSTAMP:20260424T061133
CREATED:20220330T164308Z
LAST-MODIFIED:20220510T191412Z
UID:39534-1655719200-1655722800@crime-stoppers.org
SUMMARY:S.A.V.E. Webinar: Reporting: Creating a Safe Space
DESCRIPTION:Students are the eyes and ears of a campus. They are the first to know about criminal and dangerous activity. Safe School Institute Director\, Jenna Fondren\, will discuss how the Crime Stoppers Tip Line works in schools\, the importance of an anonymous reporting tool\, creating a space that students can go to anonymously use the Crime Stoppers Tip Line App and provide examples of real school cases that exemplify the need for such systems. \nThis virtual statewide webinar is made possible by Texas Education Agency (TEA) and Spindletop Community Impact Partners\, Inc. \nREGISTER HERE
URL:https://crime-stoppers.org/event/s-a-v-e-webinar-reporting-creating-a-safe-space
END:VEVENT
BEGIN:VEVENT
DTSTART;TZID=UTC:20220621T110000
DTEND;TZID=UTC:20220621T120000
DTSTAMP:20260424T061133
CREATED:20220330T170344Z
LAST-MODIFIED:20220510T191348Z
UID:39544-1655809200-1655812800@crime-stoppers.org
SUMMARY:SCP Webinar: Safety Planning for LGBTQ+ Populations
DESCRIPTION:Join us for a discussion on safety risks plaguing the LGBTQ+ community. In this conversation we will cover common crimes affecting this community\, practical tools to help this this community safe\, and how the community at large can be an ally for LGBTQ+ safety. \nThis presentation is made possible by Spindletop Community Impact Partners\, Inc. and our Safe Community Institute sponsors: \n– Phillips 66\n– The Hamill Foundation\n– Harris County Commissioners Court – Commissioner R. Jack Cagle\n– Harris County Commissioners Court – Commissioner Tom Ramsey\n– Lawrence and Linda Levy\n– Cheniere Energy\n– Houston PetSet\n– Harris County Sheriff’s Office Foundation \nREGISTER HERE
URL:https://crime-stoppers.org/event/scp-webinar-safety-planning-for-lgbtq-populations
END:VEVENT
BEGIN:VEVENT
DTSTART;TZID=UTC:20220627T100000
DTEND;TZID=UTC:20220627T110000
DTSTAMP:20260424T061133
CREATED:20220330T164417Z
LAST-MODIFIED:20220510T191325Z
UID:39536-1656324000-1656327600@crime-stoppers.org
SUMMARY:S.A.V.E. Webinar: Bystander Interventions
DESCRIPTION:Have you ever witnessed something happen and contemplate what you should do next? Step in\, or just leave it alone for someone else to report? If so\, you are not alone\, and this is a predicament students face daily. Join Programs Manager\, Kaitlynn Frey to find out what Bystander Intervention is imperative but most often avoided and what can be done to increase this. \nThis virtual statewide webinar is made possible by Texas Education Agency (TEA) and Spindletop Community Impact Partners\, Inc. \nREGISTER HERE
URL:https://crime-stoppers.org/event/s-a-v-e-webinar-bystander-interventions
END:VEVENT
BEGIN:VEVENT
DTSTART;TZID=UTC:20220628T110000
DTEND;TZID=UTC:20220628T120000
DTSTAMP:20260424T061133
CREATED:20220330T170451Z
LAST-MODIFIED:20220510T191259Z
UID:39545-1656414000-1656417600@crime-stoppers.org
SUMMARY:SCP Webinar: Recognizing and Reporting Child Abuse
DESCRIPTION:Safe School Institute Director\, Jenna Fondren will discuss the importance of educators and community members recognizing and reporting Child Abuse\, Neglect\, and Human Trafficking. This presentation covers signs and symptoms of all forms of child abuse\, including neglect and human trafficking. Current laws are reviewed\, and resources provided on handling disclosures and required duties to respond. \nThis presentation is made possible by Spindletop Community Impact Partners\, Inc. and our Safe Community Institute sponsors: \n– Phillips 66\n– The Hamill Foundation\n– Harris County Commissioners Court – Commissioner R. Jack Cagle\n– Harris County Commissioners Court – Commissioner Tom Ramsey\n– Lawrence and Linda Levy\n– Cheniere Energy\n– Houston PetSet\n– Harris County Sheriff’s Office Foundation \nREGISTER HERE
URL:https://crime-stoppers.org/event/scp-webinar-recognizing-and-reporting-child-abuse
END:VEVENT
END:VCALENDAR