BEGIN:VCALENDAR
VERSION:2.0
PRODID:-//Crime Stoppers of Houston - ECPv6.15.20//NONSGML v1.0//EN
CALSCALE:GREGORIAN
METHOD:PUBLISH
X-ORIGINAL-URL:https://crime-stoppers.org
X-WR-CALDESC:Events for Crime Stoppers of Houston
REFRESH-INTERVAL;VALUE=DURATION:PT1H
X-Robots-Tag:noindex
X-PUBLISHED-TTL:PT1H
BEGIN:VTIMEZONE
TZID:UTC
BEGIN:STANDARD
TZOFFSETFROM:+0000
TZOFFSETTO:+0000
TZNAME:UTC
DTSTART:20210101T000000
END:STANDARD
END:VTIMEZONE
BEGIN:VTIMEZONE
TZID:America/Chicago
BEGIN:DAYLIGHT
TZOFFSETFROM:-0600
TZOFFSETTO:-0500
TZNAME:CDT
DTSTART:20210314T080000
END:DAYLIGHT
BEGIN:STANDARD
TZOFFSETFROM:-0500
TZOFFSETTO:-0600
TZNAME:CST
DTSTART:20211107T070000
END:STANDARD
BEGIN:DAYLIGHT
TZOFFSETFROM:-0600
TZOFFSETTO:-0500
TZNAME:CDT
DTSTART:20220313T080000
END:DAYLIGHT
BEGIN:STANDARD
TZOFFSETFROM:-0500
TZOFFSETTO:-0600
TZNAME:CST
DTSTART:20221106T070000
END:STANDARD
BEGIN:DAYLIGHT
TZOFFSETFROM:-0600
TZOFFSETTO:-0500
TZNAME:CDT
DTSTART:20230312T080000
END:DAYLIGHT
BEGIN:STANDARD
TZOFFSETFROM:-0500
TZOFFSETTO:-0600
TZNAME:CST
DTSTART:20231105T070000
END:STANDARD
END:VTIMEZONE
BEGIN:VEVENT
DTSTART;TZID=UTC:20220404T100000
DTEND;TZID=UTC:20220404T110000
DTSTAMP:20260422T052823
CREATED:20220330T162626Z
LAST-MODIFIED:20220330T162626Z
UID:39526-1649066400-1649070000@crime-stoppers.org
SUMMARY:S.A.V.E. Webinar: Prom Safety
DESCRIPTION:Programs Manager\, Kaitlynn Frey\, will cover the inception of prom\, boundaries\, consent\, underage drinking\, drugs\, legal consequences\, and tips on keeping students and their friends safe on prom night. \nThis virtual statewide webinar is made possible by Texas Education Agency (TEA) and Spindletop Charities\, Inc. \nREGISTER HERE
URL:https://crime-stoppers.org/event/s-a-v-e-webinar-prom-safety
END:VEVENT
BEGIN:VEVENT
DTSTART;TZID=UTC:20220405T110000
DTEND;TZID=UTC:20220405T120000
DTSTAMP:20260422T052823
CREATED:20220330T164821Z
LAST-MODIFIED:20220330T164821Z
UID:39537-1649156400-1649160000@crime-stoppers.org
SUMMARY:SCP Webinar: Animal Safety Seminar
DESCRIPTION:Join Education Specialist\, Ernesto Reyes and an expert guest speaker about the importance of community involvement in the fight against animal cruelty\, and the prevalence of the issue surrounding animal abuse and neglect. \nThis presentation is made possible by Spindletop Charities\, Inc. and our Safe Community Institute sponsors: \n– Phillips 66\n– The Hamill Foundation\n– Harris County Commissioners Court – Commissioner R. Jack Cagle\n– Harris County Commissioners Court – Commissioner Tom Ramsey\n– Lawrence and Linda Levy\n– Cheniere Energy\n– Houston PetSet\n– Harris County Sheriff’s Office Foundation \nREGISTER HERE
URL:https://crime-stoppers.org/event/scp-webinar-animal-safety-seminar
END:VEVENT
BEGIN:VEVENT
DTSTART;TZID=UTC:20220408T113000
DTEND;TZID=UTC:20220408T130000
DTSTAMP:20260422T052823
CREATED:20220330T145623Z
LAST-MODIFIED:20220330T162851Z
UID:39523-1649417400-1649422800@crime-stoppers.org
SUMMARY:Food For Thought - ISD Tip Line Lunch & Learn
DESCRIPTION:You know our name and you know our phone number (713-222-TIPS)\, but did you know that our tip line is also available to students? We invite you to a FREE ISD Partners’ Lunch & Learn to hear how your campus can utilize this life-saving resource and gain the status of being a Crime Stoppers Certified Safe School. During this informative session\, you will learn how you can deploy our FREE platform that meets the requirements of David’s Law and frees up already-strained budgets. You will also hear about some of the cases Crime Stoppers has been involved in\, eye-opening stats\, and the Safe School Institute’s preventative education. Your students and school deserve a platform whose only mission is to solve and prevent crime. \nThis free event is open to Harris County school ISD PD personnel & Harris County ISD Administration. Lunch will be provided. \nREGISTER HERE
URL:https://crime-stoppers.org/event/food-for-thought-isd-tip-line-lunch-learn-email-blast
ATTACH;FMTTYPE=image/jpeg:https://crime-stoppers.org/wp-content/uploads/2022/03/Tip-Line-LL-Social-Square-FINAL.jpg
END:VEVENT
BEGIN:VEVENT
DTSTART;TZID=America/Chicago:20220411T083000
DTEND;TZID=America/Chicago:20220412T160000
DTSTAMP:20260422T052823
CREATED:20220218T165351Z
LAST-MODIFIED:20220218T165351Z
UID:39387-1649665800-1649779200@crime-stoppers.org
SUMMARY:Statewide Training
DESCRIPTION:Crime Stoppers of Houston & Texas Crime Stoppers Council invite you to attend our 2-day Crime Stoppers Virtual Statewide Training. This training is Texas Crime Stoppers Council certified and will count towards 10 hours of continuing certification requirements. \nCLICK HERE TO FULL DETAILS & TO REGISTER!
URL:https://crime-stoppers.org/event/statewide-training-day-1
END:VEVENT
BEGIN:VEVENT
DTSTART;TZID=America/Chicago:20220414T113000
DTEND;TZID=America/Chicago:20220414T133000
DTSTAMP:20260422T052823
CREATED:20220106T155134Z
LAST-MODIFIED:20220113T191922Z
UID:39210-1649935800-1649943000@crime-stoppers.org
SUMMARY:2022 Houston's Heroes Awards Luncheon
DESCRIPTION:Thank you to our partners at Aramco Services for making this event possible! \nPRESENTING PARTNER
URL:https://crime-stoppers.org/event/2022-houstons-heroes-awards-luncheon
LOCATION:Royal Sonesta Hotel\, 2222 West Loop South\, Houston\, Texas 77027
END:VEVENT
BEGIN:VEVENT
DTSTART;TZID=UTC:20220418T100000
DTEND;TZID=UTC:20220418T110000
DTSTAMP:20260422T052823
CREATED:20220330T163224Z
LAST-MODIFIED:20220330T163224Z
UID:39527-1650276000-1650279600@crime-stoppers.org
SUMMARY:S.A.V.E Webinar: Importance of Animal Safety Education in Schools and Reporting
DESCRIPTION:Join Education Specialist\, Ernesto Reyes for a presentation that discusses animal abuse and neglect\, the prevalence of the issue\, ways to report\, and the link between animal abuse and criminal violence and why Animal Safety Education is imperative in schools. \nThis virtual statewide webinar is made possible by Texas Education Agency (TEA) and Spindletop Charities\, Inc. \nREGISTER HERE
URL:https://crime-stoppers.org/event/s-a-v-e-webinar-importance-of-animal-safety-education-in-schools-and-reporting
END:VEVENT
BEGIN:VEVENT
DTSTART;TZID=UTC:20220419T110000
DTEND;TZID=UTC:20220419T120000
DTSTAMP:20260422T052823
CREATED:20220330T165000Z
LAST-MODIFIED:20220330T165000Z
UID:39538-1650366000-1650369600@crime-stoppers.org
SUMMARY:SCP Webinar: Social Media and Mental Health
DESCRIPTION:Adolescents who spend more than 3 hours a day on social media are at an increased risk of mental health problems. Join Crime Stoppers of Houston for an honest discussion about the nexus between social media and mental health. Come learn simple steps you can take to create a healthy social media environment in your home and how to use existing tools to help you do so.\nThis presentation is intended for participants 18+ and is not suitable for children. \nThis presentation is made possible by Spindletop Charities\, Inc. and our Safe Community Institute sponsors: \n– Phillips 66\n– The Hamill Foundation\n– Harris County Commissioners Court – Commissioner R. Jack Cagle\n– Harris County Commissioners Court – Commissioner Tom Ramsey\n– Lawrence and Linda Levy\n– Cheniere Energy\n– Houston PetSet\n– Harris County Sheriff’s Office Foundation \nREGISTER HERE
URL:https://crime-stoppers.org/event/scp-webinar-social-media-and-mental-health
END:VEVENT
BEGIN:VEVENT
DTSTART;TZID=UTC:20220425T100000
DTEND;TZID=UTC:20220425T110000
DTSTAMP:20260422T052823
CREATED:20220330T163452Z
LAST-MODIFIED:20220330T163701Z
UID:39529-1650880800-1650884400@crime-stoppers.org
SUMMARY:S.A.V.E Webinar: Mental Health for Educators and Students during Testing
DESCRIPTION:Anxiety disorders are the most common mental health concern in the United States – 8% of children and teens experience an anxiety disorder. (benice.org). Testing months can be the hardest for students and teachers to navigate as the pressure of doing their best weighs on them. Join Safe School Institute Director\, Jenna Fondren while she discusses what mental health is\, what are testing stressors and how as an educator you can prep yourself for the coming month. \nThis virtual statewide webinar is made possible by Texas Education Agency (TEA) and Spindletop Charities\, Inc. \nREGISTER HERE
URL:https://crime-stoppers.org/event/s-a-v-e-webinar-mental-health-for-educators-and-students-during-testing
END:VEVENT
BEGIN:VEVENT
DTSTART;VALUE=DATE:20220426
DTEND;VALUE=DATE:20220427
DTSTAMP:20260422T052823
CREATED:20220107T211154Z
LAST-MODIFIED:20220314T174747Z
UID:39242-1650931200-1651017599@crime-stoppers.org
SUMMARY:2022 Regional School Safety Summit
DESCRIPTION:Join us on Tuesday\, April 26 for the Regional School Safety Summit \nHosted by Region 4 and Crime Stoppers of Houston\nREGISTER HERE
URL:https://crime-stoppers.org/event/2022-regional-school-safety-summit
LOCATION:Region 4 Education Service Center\, 7200 Northwest Dr.\, Houston TX 77092
ATTACH;FMTTYPE=image/png:https://crime-stoppers.org/wp-content/uploads/2022/01/Regional-School-Safety-2022.png
END:VEVENT
BEGIN:VEVENT
DTSTART;TZID=UTC:20220426T110000
DTEND;TZID=UTC:20220426T120000
DTSTAMP:20260422T052823
CREATED:20220330T165250Z
LAST-MODIFIED:20220330T165250Z
UID:39539-1650970800-1650974400@crime-stoppers.org
SUMMARY:SCP Webinar: Mental Health Adults
DESCRIPTION:In this presentation\, Safe Community Institute Director\, Sydney Zuiker\, discusses the significance of mental health in adolescents and adults and how parents and adults can identify signs and symptoms of mental health struggles\, when and where to seek professional help\, and protocol for handling dangerous situations such as potential suicide for themselves and their children \nThis presentation is made possible by Spindletop Charities\, Inc. and our Safe Community Institute sponsors: \n– Phillips 66\n– The Hamill Foundation\n– Harris County Commissioners Court – Commissioner R. Jack Cagle\n– Harris County Commissioners Court – Commissioner Tom Ramsey\n– Lawrence and Linda Levy\n– Cheniere Energy\n– Houston PetSet\n– Harris County Sheriff’s Office Foundation \nREGISTER HERE
URL:https://crime-stoppers.org/event/scp-webinar-mental-health-adults
END:VEVENT
BEGIN:VEVENT
DTSTART;TZID=UTC:20220428T113000
DTEND;TZID=UTC:20220428T130000
DTSTAMP:20260422T052823
CREATED:20220331T162353Z
LAST-MODIFIED:20220406T171801Z
UID:39572-1651145400-1651150800@crime-stoppers.org
SUMMARY:Community Seminar - Darkness to Light: Commercial Sexual Exploitation
DESCRIPTION:Crime Stoppers of Houston in partnership with the Children’s Assessment Center of Houston invites you to a seminar called Darkness to Light: Commercial Sexual Exploitation on April 28\, 2022. \nChild sex trafficking\, also known as the commercial sexual exploitation of children (CSEC)\, is any sexual activity involving a child for which something of value is given or promised. Building on the education provided in Stewards of Children®\, Darkness to Light’s evidence-based training on preventing\, recognizing\, and reacting responsibly to child sexual abuse\, this training teaches you about the root cause of commercial sexual exploitation and why preventing sexual abuse is important to reducing the risk of children being sexually trafficked. \n\nREGISTER HERE
URL:https://crime-stoppers.org/event/scp-webinar-child-abuse-seminar
LOCATION:Crime Stoppers Building\, 3001 Main St.\, Houston\, TX 77002
END:VEVENT
END:VCALENDAR