BEGIN:VCALENDAR
VERSION:2.0
PRODID:-//Crime Stoppers of Houston - ECPv6.15.20//NONSGML v1.0//EN
CALSCALE:GREGORIAN
METHOD:PUBLISH
X-WR-CALNAME:Crime Stoppers of Houston
X-ORIGINAL-URL:https://crime-stoppers.org
X-WR-CALDESC:Events for Crime Stoppers of Houston
REFRESH-INTERVAL;VALUE=DURATION:PT1H
X-Robots-Tag:noindex
X-PUBLISHED-TTL:PT1H
BEGIN:VTIMEZONE
TZID:UTC
BEGIN:STANDARD
TZOFFSETFROM:+0000
TZOFFSETTO:+0000
TZNAME:UTC
DTSTART:20190101T000000
END:STANDARD
END:VTIMEZONE
BEGIN:VEVENT
DTSTART;TZID=UTC:20200226T190000
DTEND;TZID=UTC:20200226T210000
DTSTAMP:20260419T234624
CREATED:20200222T031713Z
LAST-MODIFIED:20200222T031839Z
UID:33045-1582743600-1582750800@crime-stoppers.org
SUMMARY:Stop the Madness Safety Event w/The Buzz Magazines
DESCRIPTION:The Buzz Magazines and Crime Stoppers of Houston invite you to join us for a panel discussion and Q & A on important topics including school and community safety. \nClick here for event details.
URL:https://crime-stoppers.org/event/stop-the-madness-safety-event-w-the-buzz-magazines
LOCATION:Evelyn’s Park\, 4400 Bellaire Blvd.\, Bellaire\, TX 77401
END:VEVENT
END:VCALENDAR