BEGIN:VCALENDAR
VERSION:2.0
PRODID:-//Crime Stoppers of Houston - ECPv6.15.20//NONSGML v1.0//EN
CALSCALE:GREGORIAN
METHOD:PUBLISH
X-ORIGINAL-URL:https://crime-stoppers.org
X-WR-CALDESC:Events for Crime Stoppers of Houston
REFRESH-INTERVAL;VALUE=DURATION:PT1H
X-Robots-Tag:noindex
X-PUBLISHED-TTL:PT1H
BEGIN:VTIMEZONE
TZID:UTC
BEGIN:STANDARD
TZOFFSETFROM:+0000
TZOFFSETTO:+0000
TZNAME:UTC
DTSTART:20180101T000000
END:STANDARD
END:VTIMEZONE
BEGIN:VEVENT
DTSTART;TZID=UTC:20191107T173000
DTEND;TZID=UTC:20191107T193000
DTSTAMP:20260424T041519
CREATED:20191018T200800Z
LAST-MODIFIED:20191019T002000Z
UID:32375-1573147800-1573155000@crime-stoppers.org
SUMMARY:YPG Fall Happy Hour
DESCRIPTION:CLICK HERE TO DOWNLOAD FLYER! \n \nThis event is FREE for members of our Young Professionals Group (YPG). Please simply RSVP to cgray@crime-stoppers.org if you are a YPG member.\n–\nIf you are NOT a member of YPG\, please REGISTER HERE OR Sign up to become a YPG member here.\n 
URL:https://crime-stoppers.org/event/ypg-fall-happy-hour-2
LOCATION:Spring Street Beer and Wine Garden\, 1920 Houston Avenue\, Houston\, TX\, 77007\, United States
END:VEVENT
BEGIN:VEVENT
DTSTART;TZID=UTC:20191107T180000
DTEND;TZID=UTC:20191107T200000
DTSTAMP:20260424T041519
CREATED:20191029T140032Z
LAST-MODIFIED:20191030T001150Z
UID:32448-1573149600-1573156800@crime-stoppers.org
SUMMARY:Kendra Gives Back Party
DESCRIPTION:CLICK HERE TO DOWNLOAD FLYER! \n \nUnable to attend\, but still want to show your support? Call Kendra Scott (The Woodlands\, TX) at 281-528-1174 on November 7th and place your order. Free shipping and 20% of you purchase will still be donated to Crime Stoppers! \nHosted by Crime Stoppers Board Member Megan Ortiz. Thank you Megan!
URL:https://crime-stoppers.org/event/kendra-gives-back-party-2
LOCATION:Kendra Scott The Woodlands\, 9595 Six Pines Drive\, The Woodlands\, TX\, 77380\, United States
END:VEVENT
BEGIN:VEVENT
DTSTART;TZID=UTC:20191114T180000
DTEND;TZID=UTC:20191114T200000
DTSTAMP:20260424T041519
CREATED:20190211T142445Z
LAST-MODIFIED:20191024T003824Z
UID:25625-1573754400-1573761600@crime-stoppers.org
SUMMARY:Counter-Terrorism Seminar
DESCRIPTION:CLICK HERE TO DOWNLOAD EVENT FLYER! \nJoin us on November 14th for a free seminar on International and Domestic Terrorism. \nLocal experts FBI Houston Supervisory Special Agent (SSA) Hesham Elgamiel and George Buenik\, Director of Office of Public Safety and Homeland Security will discuss current terrorism trends and ideologies. \nThere will be an audience discussion following the presentation. \nFree to attend  |  Open to the public \n\nA light dinner will be served\, so please RSVP to phollek@crime-stoppers.org. \n\nRSVP to tcruz@crime-stoppers.org. \nThis seminar is made possible by the Gillson Longenbaugh Foundation and Linda & Lawrence Levy. \n  \n 
URL:https://crime-stoppers.org/event/counter-terrorism-seminar
LOCATION:Crime Stoppers of Houston\, 3001 Main Street\, Houston\, Texas\, 77007
ATTACH;FMTTYPE=image/jpeg:https://crime-stoppers.org/wp-content/uploads/2019/02/CT-Seminar-flyer-9.18.19.jpg
END:VEVENT
END:VCALENDAR